BEGIN:VCALENDAR
VERSION:2.0
PRODID:-//UC Irvine Microbiome Initiative - ECPv6.15.18//NONSGML v1.0//EN
CALSCALE:GREGORIAN
METHOD:PUBLISH
X-WR-CALNAME:UC Irvine Microbiome Initiative
X-ORIGINAL-URL:https://microbiome.uci.edu
X-WR-CALDESC:Events for UC Irvine Microbiome Initiative
REFRESH-INTERVAL;VALUE=DURATION:PT1H
X-Robots-Tag:noindex
X-PUBLISHED-TTL:PT1H
BEGIN:VTIMEZONE
TZID:America/Los_Angeles
BEGIN:DAYLIGHT
TZOFFSETFROM:-0800
TZOFFSETTO:-0700
TZNAME:PDT
DTSTART:20230312T100000
END:DAYLIGHT
BEGIN:STANDARD
TZOFFSETFROM:-0700
TZOFFSETTO:-0800
TZNAME:PST
DTSTART:20231105T090000
END:STANDARD
BEGIN:DAYLIGHT
TZOFFSETFROM:-0800
TZOFFSETTO:-0700
TZNAME:PDT
DTSTART:20240310T100000
END:DAYLIGHT
BEGIN:STANDARD
TZOFFSETFROM:-0700
TZOFFSETTO:-0800
TZNAME:PST
DTSTART:20241103T090000
END:STANDARD
BEGIN:DAYLIGHT
TZOFFSETFROM:-0800
TZOFFSETTO:-0700
TZNAME:PDT
DTSTART:20250309T100000
END:DAYLIGHT
BEGIN:STANDARD
TZOFFSETFROM:-0700
TZOFFSETTO:-0800
TZNAME:PST
DTSTART:20251102T090000
END:STANDARD
END:VTIMEZONE
BEGIN:VEVENT
DTSTART;TZID=America/Los_Angeles:20240201T150000
DTEND;TZID=America/Los_Angeles:20240201T160000
DTSTAMP:20260422T214739
CREATED:20240119T221047Z
LAST-MODIFIED:20240123T203514Z
UID:2453-1706799600-1706803200@microbiome.uci.edu
SUMMARY:Chris Olivares\, Civil and Environmental Engineering - Thursday\, February 1
DESCRIPTION:Join us at the 10th Annual Southern California Microbiome Symposium! \nThis event brings together leading experts to explore the intricate connections the microbiome has to health\, agriculture\, and the environment. It will be taking place on Friday\, September 20th\, 10 am – 6 pm at The Arnold and Mabel Beckman Center. Our confirmed speakers represent a diverse array of prestigious institutions and will share their latest research\, knowledge\, and insights. \nConfirmed speakers include: \n\nZach Abbott - ZBiotics\nAmi Bhatt - Stanford University\nMatt Griffin - UC Irvine\nSmruthi Karthikeyan - Caltech\nJustin Meyer - UC San Diego\nPeter Jorth - Cedars Sinai\nLaila Partida Martinez - Cinvestav\, Mexico\nJason Rothman - UC Irvine\n\nThis symposium is sponsored by Zymo Research\, and organized by UC Irvine Microbiome\, Cedars Sinai\, Caltech\, the Center for Microbiome Innovation\, and the UC Riverside Microbiome Initiative.  \nView the Agenda \n  \n\n	\n\n\n\n	\n		\n	\n\n\n	\n						\n		\n\n			\n	\n	\n		\n	Event Day Information\nOn Friday\, September 20\, 2024—we will gather at the Beckman Center for a wonderful day of microbiome science. This will be our 10th SoCal Microbiome Symposium since we started in 2013! \nWe can’t wait to see all of you and reflect on the last 10 years of microbiome science. \nOn behalf of the organizing committee: Jennifer Martiny\, Katrine Whiteson\, Sydney Glassman\, Quinn McFrederick\, Jack Gilbert\, Suzanne Devkota\, Dianne Newman\, and Margaret McFall-Ngai. \n\n	\n\n\n	\n		\n\n				\n				\n\n					\n					General Key Details\n\n											Expand\n					\n				\n				\n					A few key details: \n\nRegistration is now closed\nLocation: The Beckman Center\, 100 Academy\, Irvine\, CA 92617 (Google Map link) Note: This year\, we’re in a new location! The symposium is NOT at CalIT2 on UCI’s campus\, but at the Beckman Center to mark our 10th anniversary. The symposium is in-person only.\nParking: Free parking is available.\nRegistration & Coffee: Starts at 9:00 AM PST on Friday 9/20/24\nPosters: Set-up will take place during lunchtime\, and the poster session will be during the afternoon reception.\nAgenda: We have an incredible line-up planned - from wastewater sequencing to phage evolution to probiotics designed to alleviate hangovers\, it will be a great day (see agenda below and attached)!\n\nStudents\, post-docs\, faculty and community members from SoCal and beyond have signed up in record numbers (>200!) \n				\n			\n						\n				\n\n					\n					View Agenda \n\n											Expand\n					\n				\n				\n					Friday September 20\, 2024 @ Beckman NAS Center Irvine\, CA (Google Map link) \n10:00 am Welcome \n10:15 am Ami Bhatt\, Stanford University - Dissecting the human gut phageome – from structure to function \n10:50 am Matt Griffin\, UC Irvine - Sensing a pattern: modulating host function via microbial glycans \n11:25 am Smruthi Kathikeyan\, CalTech - From Pandemics to Phage Therapy: Unlocking the capabilities of wastewater genomic epidemiology \nLUNCH BREAK \n1:00 pm Laila Partida Martinez\, Cinvestav\, Mexico - Volatiles\, synthetic communities and symbiotic fungi: microbiome-derived tools to sustain agriculture in drylands \n1:35pm Zack Abbott\, ZBiotics - Building a category of genetically engineered probiotics in the consumer space \n2:10 pm Jason Rothman\, UC Riverside - You can't hide from the toilet: Sequencing SoCal's sewage \nCOFFEE BREAK \n3:30 pm Justin Meyer\, UC San Diego - Bacteriophage-host coevolution drives the evolution of key innovations and ecological network complexity \n4:05 pm Peter Jorth\, Cedars Sinai - Leveraging evolved bacterial iron piracy for treatment of multidrug resistant infections \nPOSTERS & RECEPTION \n				\n			\n			\n	\n\n\n	\n		\n			\n							Download PDF of Agenda
URL:https://microbiome.uci.edu/event/chris-olivares-civil-and-environmental-engineering-thursday-february-1/
LOCATION:Natural Sciences I
ATTACH;FMTTYPE=image/png:https://microbiome.uci.edu/wp-content/uploads/sites/42/2024/01/Untitled-design-3.png
END:VEVENT
BEGIN:VEVENT
DTSTART;TZID=America/Los_Angeles:20240307T150000
DTEND;TZID=America/Los_Angeles:20240307T160000
DTSTAMP:20260422T214739
CREATED:20240119T221310Z
LAST-MODIFIED:20240123T203320Z
UID:2455-1709823600-1709827200@microbiome.uci.edu
SUMMARY:Cholsoon Jang\, Biological Chemistry - Thursday\, March 7
DESCRIPTION:Join us at the 10th Annual Southern California Microbiome Symposium! \nThis event brings together leading experts to explore the intricate connections the microbiome has to health\, agriculture\, and the environment. It will be taking place on Friday\, September 20th\, 10 am – 6 pm at The Arnold and Mabel Beckman Center. Our confirmed speakers represent a diverse array of prestigious institutions and will share their latest research\, knowledge\, and insights. \nConfirmed speakers include: \n\nZach Abbott - ZBiotics\nAmi Bhatt - Stanford University\nMatt Griffin - UC Irvine\nSmruthi Karthikeyan - Caltech\nJustin Meyer - UC San Diego\nPeter Jorth - Cedars Sinai\nLaila Partida Martinez - Cinvestav\, Mexico\nJason Rothman - UC Irvine\n\nThis symposium is sponsored by Zymo Research\, and organized by UC Irvine Microbiome\, Cedars Sinai\, Caltech\, the Center for Microbiome Innovation\, and the UC Riverside Microbiome Initiative.  \nView the Agenda \n  \n\n	\n\n\n\n	\n		\n	\n\n\n	\n						\n		\n\n			\n	\n	\n		\n	Event Day Information\nOn Friday\, September 20\, 2024—we will gather at the Beckman Center for a wonderful day of microbiome science. This will be our 10th SoCal Microbiome Symposium since we started in 2013! \nWe can’t wait to see all of you and reflect on the last 10 years of microbiome science. \nOn behalf of the organizing committee: Jennifer Martiny\, Katrine Whiteson\, Sydney Glassman\, Quinn McFrederick\, Jack Gilbert\, Suzanne Devkota\, Dianne Newman\, and Margaret McFall-Ngai. \n\n	\n\n\n	\n		\n\n				\n				\n\n					\n					General Key Details\n\n											Expand\n					\n				\n				\n					A few key details: \n\nRegistration is now closed\nLocation: The Beckman Center\, 100 Academy\, Irvine\, CA 92617 (Google Map link) Note: This year\, we’re in a new location! The symposium is NOT at CalIT2 on UCI’s campus\, but at the Beckman Center to mark our 10th anniversary. The symposium is in-person only.\nParking: Free parking is available.\nRegistration & Coffee: Starts at 9:00 AM PST on Friday 9/20/24\nPosters: Set-up will take place during lunchtime\, and the poster session will be during the afternoon reception.\nAgenda: We have an incredible line-up planned - from wastewater sequencing to phage evolution to probiotics designed to alleviate hangovers\, it will be a great day (see agenda below and attached)!\n\nStudents\, post-docs\, faculty and community members from SoCal and beyond have signed up in record numbers (>200!) \n				\n			\n						\n				\n\n					\n					View Agenda \n\n											Expand\n					\n				\n				\n					Friday September 20\, 2024 @ Beckman NAS Center Irvine\, CA (Google Map link) \n10:00 am Welcome \n10:15 am Ami Bhatt\, Stanford University - Dissecting the human gut phageome – from structure to function \n10:50 am Matt Griffin\, UC Irvine - Sensing a pattern: modulating host function via microbial glycans \n11:25 am Smruthi Kathikeyan\, CalTech - From Pandemics to Phage Therapy: Unlocking the capabilities of wastewater genomic epidemiology \nLUNCH BREAK \n1:00 pm Laila Partida Martinez\, Cinvestav\, Mexico - Volatiles\, synthetic communities and symbiotic fungi: microbiome-derived tools to sustain agriculture in drylands \n1:35pm Zack Abbott\, ZBiotics - Building a category of genetically engineered probiotics in the consumer space \n2:10 pm Jason Rothman\, UC Riverside - You can't hide from the toilet: Sequencing SoCal's sewage \nCOFFEE BREAK \n3:30 pm Justin Meyer\, UC San Diego - Bacteriophage-host coevolution drives the evolution of key innovations and ecological network complexity \n4:05 pm Peter Jorth\, Cedars Sinai - Leveraging evolved bacterial iron piracy for treatment of multidrug resistant infections \nPOSTERS & RECEPTION \n				\n			\n			\n	\n\n\n	\n		\n			\n							Download PDF of Agenda
URL:https://microbiome.uci.edu/event/cholsoon-jang-biological-chemistry-thursday-march-7/
LOCATION:Natural Sciences I
ATTACH;FMTTYPE=image/png:https://microbiome.uci.edu/wp-content/uploads/sites/42/2024/01/Untitled-design-3-1.png
END:VEVENT
BEGIN:VEVENT
DTSTART;TZID=America/Los_Angeles:20240404T150000
DTEND;TZID=America/Los_Angeles:20240404T160000
DTSTAMP:20260422T214739
CREATED:20240119T221008Z
LAST-MODIFIED:20240123T203247Z
UID:2457-1712242800-1712246400@microbiome.uci.edu
SUMMARY:Alejandra Rodriguez Verdugo\, Ecology and Evolutionary Biology - Thursday\, April 4
DESCRIPTION:Join us at the 10th Annual Southern California Microbiome Symposium! \nThis event brings together leading experts to explore the intricate connections the microbiome has to health\, agriculture\, and the environment. It will be taking place on Friday\, September 20th\, 10 am – 6 pm at The Arnold and Mabel Beckman Center. Our confirmed speakers represent a diverse array of prestigious institutions and will share their latest research\, knowledge\, and insights. \nConfirmed speakers include: \n\nZach Abbott - ZBiotics\nAmi Bhatt - Stanford University\nMatt Griffin - UC Irvine\nSmruthi Karthikeyan - Caltech\nJustin Meyer - UC San Diego\nPeter Jorth - Cedars Sinai\nLaila Partida Martinez - Cinvestav\, Mexico\nJason Rothman - UC Irvine\n\nThis symposium is sponsored by Zymo Research\, and organized by UC Irvine Microbiome\, Cedars Sinai\, Caltech\, the Center for Microbiome Innovation\, and the UC Riverside Microbiome Initiative.  \nView the Agenda \n  \n\n	\n\n\n\n	\n		\n	\n\n\n	\n						\n		\n\n			\n	\n	\n		\n	Event Day Information\nOn Friday\, September 20\, 2024—we will gather at the Beckman Center for a wonderful day of microbiome science. This will be our 10th SoCal Microbiome Symposium since we started in 2013! \nWe can’t wait to see all of you and reflect on the last 10 years of microbiome science. \nOn behalf of the organizing committee: Jennifer Martiny\, Katrine Whiteson\, Sydney Glassman\, Quinn McFrederick\, Jack Gilbert\, Suzanne Devkota\, Dianne Newman\, and Margaret McFall-Ngai. \n\n	\n\n\n	\n		\n\n				\n				\n\n					\n					General Key Details\n\n											Expand\n					\n				\n				\n					A few key details: \n\nRegistration is now closed\nLocation: The Beckman Center\, 100 Academy\, Irvine\, CA 92617 (Google Map link) Note: This year\, we’re in a new location! The symposium is NOT at CalIT2 on UCI’s campus\, but at the Beckman Center to mark our 10th anniversary. The symposium is in-person only.\nParking: Free parking is available.\nRegistration & Coffee: Starts at 9:00 AM PST on Friday 9/20/24\nPosters: Set-up will take place during lunchtime\, and the poster session will be during the afternoon reception.\nAgenda: We have an incredible line-up planned - from wastewater sequencing to phage evolution to probiotics designed to alleviate hangovers\, it will be a great day (see agenda below and attached)!\n\nStudents\, post-docs\, faculty and community members from SoCal and beyond have signed up in record numbers (>200!) \n				\n			\n						\n				\n\n					\n					View Agenda \n\n											Expand\n					\n				\n				\n					Friday September 20\, 2024 @ Beckman NAS Center Irvine\, CA (Google Map link) \n10:00 am Welcome \n10:15 am Ami Bhatt\, Stanford University - Dissecting the human gut phageome – from structure to function \n10:50 am Matt Griffin\, UC Irvine - Sensing a pattern: modulating host function via microbial glycans \n11:25 am Smruthi Kathikeyan\, CalTech - From Pandemics to Phage Therapy: Unlocking the capabilities of wastewater genomic epidemiology \nLUNCH BREAK \n1:00 pm Laila Partida Martinez\, Cinvestav\, Mexico - Volatiles\, synthetic communities and symbiotic fungi: microbiome-derived tools to sustain agriculture in drylands \n1:35pm Zack Abbott\, ZBiotics - Building a category of genetically engineered probiotics in the consumer space \n2:10 pm Jason Rothman\, UC Riverside - You can't hide from the toilet: Sequencing SoCal's sewage \nCOFFEE BREAK \n3:30 pm Justin Meyer\, UC San Diego - Bacteriophage-host coevolution drives the evolution of key innovations and ecological network complexity \n4:05 pm Peter Jorth\, Cedars Sinai - Leveraging evolved bacterial iron piracy for treatment of multidrug resistant infections \nPOSTERS & RECEPTION \n				\n			\n			\n	\n\n\n	\n		\n			\n							Download PDF of Agenda
URL:https://microbiome.uci.edu/event/alejandra-rodriguez-verdugo-ecology-and-evolutionary-biology-thursday-april-4/
LOCATION:Natural Sciences I
ATTACH;FMTTYPE=image/png:https://microbiome.uci.edu/wp-content/uploads/sites/42/2024/01/Untitled-design-3-2.png
END:VEVENT
BEGIN:VEVENT
DTSTART;TZID=America/Los_Angeles:20240502T150000
DTEND;TZID=America/Los_Angeles:20240502T160000
DTSTAMP:20260422T214739
CREATED:20240119T221200Z
LAST-MODIFIED:20240123T203222Z
UID:2459-1714662000-1714665600@microbiome.uci.edu
SUMMARY:Saurabh Chatterjee\, Environmental and Occupational Health - Thursday\, May 2
DESCRIPTION:Join us at the 10th Annual Southern California Microbiome Symposium! \nThis event brings together leading experts to explore the intricate connections the microbiome has to health\, agriculture\, and the environment. It will be taking place on Friday\, September 20th\, 10 am – 6 pm at The Arnold and Mabel Beckman Center. Our confirmed speakers represent a diverse array of prestigious institutions and will share their latest research\, knowledge\, and insights. \nConfirmed speakers include: \n\nZach Abbott - ZBiotics\nAmi Bhatt - Stanford University\nMatt Griffin - UC Irvine\nSmruthi Karthikeyan - Caltech\nJustin Meyer - UC San Diego\nPeter Jorth - Cedars Sinai\nLaila Partida Martinez - Cinvestav\, Mexico\nJason Rothman - UC Irvine\n\nThis symposium is sponsored by Zymo Research\, and organized by UC Irvine Microbiome\, Cedars Sinai\, Caltech\, the Center for Microbiome Innovation\, and the UC Riverside Microbiome Initiative.  \nView the Agenda \n  \n\n	\n\n\n\n	\n		\n	\n\n\n	\n						\n		\n\n			\n	\n	\n		\n	Event Day Information\nOn Friday\, September 20\, 2024—we will gather at the Beckman Center for a wonderful day of microbiome science. This will be our 10th SoCal Microbiome Symposium since we started in 2013! \nWe can’t wait to see all of you and reflect on the last 10 years of microbiome science. \nOn behalf of the organizing committee: Jennifer Martiny\, Katrine Whiteson\, Sydney Glassman\, Quinn McFrederick\, Jack Gilbert\, Suzanne Devkota\, Dianne Newman\, and Margaret McFall-Ngai. \n\n	\n\n\n	\n		\n\n				\n				\n\n					\n					General Key Details\n\n											Expand\n					\n				\n				\n					A few key details: \n\nRegistration is now closed\nLocation: The Beckman Center\, 100 Academy\, Irvine\, CA 92617 (Google Map link) Note: This year\, we’re in a new location! The symposium is NOT at CalIT2 on UCI’s campus\, but at the Beckman Center to mark our 10th anniversary. The symposium is in-person only.\nParking: Free parking is available.\nRegistration & Coffee: Starts at 9:00 AM PST on Friday 9/20/24\nPosters: Set-up will take place during lunchtime\, and the poster session will be during the afternoon reception.\nAgenda: We have an incredible line-up planned - from wastewater sequencing to phage evolution to probiotics designed to alleviate hangovers\, it will be a great day (see agenda below and attached)!\n\nStudents\, post-docs\, faculty and community members from SoCal and beyond have signed up in record numbers (>200!) \n				\n			\n						\n				\n\n					\n					View Agenda \n\n											Expand\n					\n				\n				\n					Friday September 20\, 2024 @ Beckman NAS Center Irvine\, CA (Google Map link) \n10:00 am Welcome \n10:15 am Ami Bhatt\, Stanford University - Dissecting the human gut phageome – from structure to function \n10:50 am Matt Griffin\, UC Irvine - Sensing a pattern: modulating host function via microbial glycans \n11:25 am Smruthi Kathikeyan\, CalTech - From Pandemics to Phage Therapy: Unlocking the capabilities of wastewater genomic epidemiology \nLUNCH BREAK \n1:00 pm Laila Partida Martinez\, Cinvestav\, Mexico - Volatiles\, synthetic communities and symbiotic fungi: microbiome-derived tools to sustain agriculture in drylands \n1:35pm Zack Abbott\, ZBiotics - Building a category of genetically engineered probiotics in the consumer space \n2:10 pm Jason Rothman\, UC Riverside - You can't hide from the toilet: Sequencing SoCal's sewage \nCOFFEE BREAK \n3:30 pm Justin Meyer\, UC San Diego - Bacteriophage-host coevolution drives the evolution of key innovations and ecological network complexity \n4:05 pm Peter Jorth\, Cedars Sinai - Leveraging evolved bacterial iron piracy for treatment of multidrug resistant infections \nPOSTERS & RECEPTION \n				\n			\n			\n	\n\n\n	\n		\n			\n							Download PDF of Agenda
URL:https://microbiome.uci.edu/event/saurabh-chatterjee-environmental-and-occupational-health-thursday-may-2/
LOCATION:Natural Sciences I
ATTACH;FMTTYPE=image/jpeg:https://microbiome.uci.edu/wp-content/uploads/sites/42/2024/01/saurabh_chatterjee_2017_465.jpg
END:VEVENT
BEGIN:VEVENT
DTSTART;TZID=America/Los_Angeles:20240606T150000
DTEND;TZID=America/Los_Angeles:20240606T160000
DTSTAMP:20260422T214739
CREATED:20240119T221134Z
LAST-MODIFIED:20240531T163015Z
UID:2461-1717686000-1717689600@microbiome.uci.edu
SUMMARY:Adam Martiny\, Earth System Science - Thursday\, June 6
DESCRIPTION:Join us at the 10th Annual Southern California Microbiome Symposium! \nThis event brings together leading experts to explore the intricate connections the microbiome has to health\, agriculture\, and the environment. It will be taking place on Friday\, September 20th\, 10 am – 6 pm at The Arnold and Mabel Beckman Center. Our confirmed speakers represent a diverse array of prestigious institutions and will share their latest research\, knowledge\, and insights. \nConfirmed speakers include: \n\nZach Abbott - ZBiotics\nAmi Bhatt - Stanford University\nMatt Griffin - UC Irvine\nSmruthi Karthikeyan - Caltech\nJustin Meyer - UC San Diego\nPeter Jorth - Cedars Sinai\nLaila Partida Martinez - Cinvestav\, Mexico\nJason Rothman - UC Irvine\n\nThis symposium is sponsored by Zymo Research\, and organized by UC Irvine Microbiome\, Cedars Sinai\, Caltech\, the Center for Microbiome Innovation\, and the UC Riverside Microbiome Initiative.  \nView the Agenda \n  \n\n	\n\n\n\n	\n		\n	\n\n\n	\n						\n		\n\n			\n	\n	\n		\n	Event Day Information\nOn Friday\, September 20\, 2024—we will gather at the Beckman Center for a wonderful day of microbiome science. This will be our 10th SoCal Microbiome Symposium since we started in 2013! \nWe can’t wait to see all of you and reflect on the last 10 years of microbiome science. \nOn behalf of the organizing committee: Jennifer Martiny\, Katrine Whiteson\, Sydney Glassman\, Quinn McFrederick\, Jack Gilbert\, Suzanne Devkota\, Dianne Newman\, and Margaret McFall-Ngai. \n\n	\n\n\n	\n		\n\n				\n				\n\n					\n					General Key Details\n\n											Expand\n					\n				\n				\n					A few key details: \n\nRegistration is now closed\nLocation: The Beckman Center\, 100 Academy\, Irvine\, CA 92617 (Google Map link) Note: This year\, we’re in a new location! The symposium is NOT at CalIT2 on UCI’s campus\, but at the Beckman Center to mark our 10th anniversary. The symposium is in-person only.\nParking: Free parking is available.\nRegistration & Coffee: Starts at 9:00 AM PST on Friday 9/20/24\nPosters: Set-up will take place during lunchtime\, and the poster session will be during the afternoon reception.\nAgenda: We have an incredible line-up planned - from wastewater sequencing to phage evolution to probiotics designed to alleviate hangovers\, it will be a great day (see agenda below and attached)!\n\nStudents\, post-docs\, faculty and community members from SoCal and beyond have signed up in record numbers (>200!) \n				\n			\n						\n				\n\n					\n					View Agenda \n\n											Expand\n					\n				\n				\n					Friday September 20\, 2024 @ Beckman NAS Center Irvine\, CA (Google Map link) \n10:00 am Welcome \n10:15 am Ami Bhatt\, Stanford University - Dissecting the human gut phageome – from structure to function \n10:50 am Matt Griffin\, UC Irvine - Sensing a pattern: modulating host function via microbial glycans \n11:25 am Smruthi Kathikeyan\, CalTech - From Pandemics to Phage Therapy: Unlocking the capabilities of wastewater genomic epidemiology \nLUNCH BREAK \n1:00 pm Laila Partida Martinez\, Cinvestav\, Mexico - Volatiles\, synthetic communities and symbiotic fungi: microbiome-derived tools to sustain agriculture in drylands \n1:35pm Zack Abbott\, ZBiotics - Building a category of genetically engineered probiotics in the consumer space \n2:10 pm Jason Rothman\, UC Riverside - You can't hide from the toilet: Sequencing SoCal's sewage \nCOFFEE BREAK \n3:30 pm Justin Meyer\, UC San Diego - Bacteriophage-host coevolution drives the evolution of key innovations and ecological network complexity \n4:05 pm Peter Jorth\, Cedars Sinai - Leveraging evolved bacterial iron piracy for treatment of multidrug resistant infections \nPOSTERS & RECEPTION \n				\n			\n			\n	\n\n\n	\n		\n			\n							Download PDF of Agenda
URL:https://microbiome.uci.edu/event/adam-martiny-earth-system-science-thursday-june-6/
LOCATION:Natural Sciences I
ATTACH;FMTTYPE=image/png:https://microbiome.uci.edu/wp-content/uploads/sites/42/2024/01/Untitled-500-x-500-px.png
END:VEVENT
BEGIN:VEVENT
DTSTART;TZID=America/Los_Angeles:20240920T100000
DTEND;TZID=America/Los_Angeles:20240920T180000
DTSTAMP:20260422T214739
CREATED:20240524T175746Z
LAST-MODIFIED:20240918T195616Z
UID:2536-1726826400-1726855200@microbiome.uci.edu
SUMMARY:10th Annual Southern California Microbiome Symposium
DESCRIPTION:Join us at the 10th Annual Southern California Microbiome Symposium! \nThis event brings together leading experts to explore the intricate connections the microbiome has to health\, agriculture\, and the environment. It will be taking place on Friday\, September 20th\, 10 am – 6 pm at The Arnold and Mabel Beckman Center. Our confirmed speakers represent a diverse array of prestigious institutions and will share their latest research\, knowledge\, and insights. \nConfirmed speakers include: \n\nZach Abbott - ZBiotics\nAmi Bhatt - Stanford University\nMatt Griffin - UC Irvine\nSmruthi Karthikeyan - Caltech\nJustin Meyer - UC San Diego\nPeter Jorth - Cedars Sinai\nLaila Partida Martinez - Cinvestav\, Mexico\nJason Rothman - UC Irvine\n\nThis symposium is sponsored by Zymo Research\, and organized by UC Irvine Microbiome\, Cedars Sinai\, Caltech\, the Center for Microbiome Innovation\, and the UC Riverside Microbiome Initiative.  \nView the Agenda \n  \n\n	\n\n\n\n	\n		\n	\n\n\n	\n						\n		\n\n			\n	\n	\n		\n	Event Day Information\nOn Friday\, September 20\, 2024—we will gather at the Beckman Center for a wonderful day of microbiome science. This will be our 10th SoCal Microbiome Symposium since we started in 2013! \nWe can’t wait to see all of you and reflect on the last 10 years of microbiome science. \nOn behalf of the organizing committee: Jennifer Martiny\, Katrine Whiteson\, Sydney Glassman\, Quinn McFrederick\, Jack Gilbert\, Suzanne Devkota\, Dianne Newman\, and Margaret McFall-Ngai. \n\n	\n\n\n	\n		\n\n				\n				\n\n					\n					General Key Details\n\n											Expand\n					\n				\n				\n					A few key details: \n\nRegistration is now closed\nLocation: The Beckman Center\, 100 Academy\, Irvine\, CA 92617 (Google Map link) Note: This year\, we’re in a new location! The symposium is NOT at CalIT2 on UCI’s campus\, but at the Beckman Center to mark our 10th anniversary. The symposium is in-person only.\nParking: Free parking is available.\nRegistration & Coffee: Starts at 9:00 AM PST on Friday 9/20/24\nPosters: Set-up will take place during lunchtime\, and the poster session will be during the afternoon reception.\nAgenda: We have an incredible line-up planned - from wastewater sequencing to phage evolution to probiotics designed to alleviate hangovers\, it will be a great day (see agenda below and attached)!\n\nStudents\, post-docs\, faculty and community members from SoCal and beyond have signed up in record numbers (>200!) \n				\n			\n						\n				\n\n					\n					View Agenda \n\n											Expand\n					\n				\n				\n					Friday September 20\, 2024 @ Beckman NAS Center Irvine\, CA (Google Map link) \n10:00 am Welcome \n10:15 am Ami Bhatt\, Stanford University - Dissecting the human gut phageome – from structure to function \n10:50 am Matt Griffin\, UC Irvine - Sensing a pattern: modulating host function via microbial glycans \n11:25 am Smruthi Kathikeyan\, CalTech - From Pandemics to Phage Therapy: Unlocking the capabilities of wastewater genomic epidemiology \nLUNCH BREAK \n1:00 pm Laila Partida Martinez\, Cinvestav\, Mexico - Volatiles\, synthetic communities and symbiotic fungi: microbiome-derived tools to sustain agriculture in drylands \n1:35pm Zack Abbott\, ZBiotics - Building a category of genetically engineered probiotics in the consumer space \n2:10 pm Jason Rothman\, UC Riverside - You can't hide from the toilet: Sequencing SoCal's sewage \nCOFFEE BREAK \n3:30 pm Justin Meyer\, UC San Diego - Bacteriophage-host coevolution drives the evolution of key innovations and ecological network complexity \n4:05 pm Peter Jorth\, Cedars Sinai - Leveraging evolved bacterial iron piracy for treatment of multidrug resistant infections \nPOSTERS & RECEPTION \n				\n			\n			\n	\n\n\n	\n		\n			\n							Download PDF of Agenda
URL:https://microbiome.uci.edu/event/10th-annual-southern-california-microbiome-symposium/
LOCATION:The Arnold and Mabel Beckman Center\, 100 Academy Wy\, Irvine\, CA\, 92617\, United States
ATTACH;FMTTYPE=image/png:https://microbiome.uci.edu/wp-content/uploads/sites/42/2024/05/Microbiome-2024-Mailchimp-Banner-1.png
END:VEVENT
END:VCALENDAR